* [dpdk-test-report] |SUCCESS| pw82090-82097 [PATCH] [v5, 8/8] test/ring: user uintptr_t instead of unsigned long
@ 2020-10-25 6:27 dpdklab
0 siblings, 0 replies; 6+ messages in thread
From: dpdklab @ 2020-10-25 6:27 UTC (permalink / raw)
To: Ajit Khaparde, Test Report; +Cc: dpdk-test-reports
[-- Attachment #1: Type: text/plain, Size: 812 bytes --]
Test-Label: iol-broadcom-Functional
Test-Status: SUCCESS
http://dpdk.org/patch/82097
_Functional Testing PASS_
Submitter: Honnappa Nagarahalli <honnappa.nagarahalli@arm.com>
Date: Sunday, October 25 2020 05:45:56
DPDK git baseline: Repo:dpdk
Branch: master
CommitID:2b8e4418ed4f85e44494981e9c6ae6a0e37dfc3a
82090-82097 --> functional testing pass
Test environment and result as below:
Ubuntu 18.04
Kernel: 4.15.0-65-generic
Compiler: gcc gcc (Ubuntu 7.4.0-1ubuntu1~18.04.1) 7.4.0
NIC: Broadcom Inc. brcm_57414 25000 Mbps
Target: x86_64-native-linuxapp-gcc
Fail/Total: 0/3
To view detailed results, visit:
https://lab.dpdk.org/results/dashboard/patchsets/13993/
UNH-IOL DPDK Community Lab
To manage your email subscriptions, visit:
https://lab.dpdk.org/results/dashboard/preferences/subscriptions/
^ permalink raw reply [flat|nested] 6+ messages in thread
* [dpdk-test-report] |SUCCESS| pw82090-82097 [PATCH] [v5, 8/8] test/ring: user uintptr_t instead of unsigned long
@ 2020-10-25 7:04 dpdklab
0 siblings, 0 replies; 6+ messages in thread
From: dpdklab @ 2020-10-25 7:04 UTC (permalink / raw)
To: Ali Alnubani, Test Report; +Cc: dpdk-test-reports
[-- Attachment #1: Type: text/plain, Size: 3984 bytes --]
Test-Label: iol-mellanox-Performance
Test-Status: SUCCESS
http://dpdk.org/patch/82097
_Performance Testing PASS_
Submitter: Honnappa Nagarahalli <honnappa.nagarahalli@arm.com>
Date: Sunday, October 25 2020 05:45:56
DPDK git baseline: Repo:dpdk
Branch: master
CommitID:2b8e4418ed4f85e44494981e9c6ae6a0e37dfc3a
82090-82097 --> performance testing pass
Test environment and result as below:
Ubuntu 18.04
Kernel: 4.15.0-generic
Compiler: gcc 7.4
NIC: Mellanox ConnectX-5 100000 Mbps
Target: x86_64-native-linuxapp-gcc
Fail/Total: 0/6
Detail performance results:
+------------+---------+-------------------------------------+
| frame_size | txd/rxd | throughput difference from expected |
+============+=========+=====================================+
| 64 | 256 | -0.250 |
+------------+---------+-------------------------------------+
| 128 | 256 | 0.010 |
+------------+---------+-------------------------------------+
| 256 | 256 | -0.106 |
+------------+---------+-------------------------------------+
| 512 | 256 | 0.145 |
+------------+---------+-------------------------------------+
| 1024 | 256 | 0.046 |
+------------+---------+-------------------------------------+
| 1518 | 256 | 0.005 |
+------------+---------+-------------------------------------+
Ubuntu 18.04
Kernel: 4.15.0-generic
Compiler: gcc 7.4
NIC: Mellanox ConnectX-4 Lx 25000 Mbps
Target: x86_64-native-linuxapp-gcc
Fail/Total: 0/6
Detail performance results:
+------------+---------+-------------------------------------+
| frame_size | txd/rxd | throughput difference from expected |
+============+=========+=====================================+
| 64 | 256 | 0.229 |
+------------+---------+-------------------------------------+
| 128 | 256 | 0.147 |
+------------+---------+-------------------------------------+
| 256 | 256 | -0.056 |
+------------+---------+-------------------------------------+
| 512 | 256 | 0.092 |
+------------+---------+-------------------------------------+
| 1024 | 256 | 0.005 |
+------------+---------+-------------------------------------+
| 1518 | 256 | 0.002 |
+------------+---------+-------------------------------------+
Ubuntu 18.04
Kernel: 4.15.0-generic
Compiler: gcc 7.4
NIC: Mellanox ConnectX-4 Lx 40000 Mbps
Target: x86_64-native-linuxapp-gcc
Fail/Total: 0/6
Detail performance results:
+------------+---------+-------------------------------------+
| frame_size | txd/rxd | throughput difference from expected |
+============+=========+=====================================+
| 64 | 256 | 0.016 |
+------------+---------+-------------------------------------+
| 128 | 256 | 0.159 |
+------------+---------+-------------------------------------+
| 256 | 256 | 0.196 |
+------------+---------+-------------------------------------+
| 512 | 256 | -0.002 |
+------------+---------+-------------------------------------+
| 1024 | 256 | -0.019 |
+------------+---------+-------------------------------------+
| 1518 | 256 | 0.009 |
+------------+---------+-------------------------------------+
To view detailed results, visit:
https://lab.dpdk.org/results/dashboard/patchsets/13993/
UNH-IOL DPDK Community Lab
To manage your email subscriptions, visit:
https://lab.dpdk.org/results/dashboard/preferences/subscriptions/
^ permalink raw reply [flat|nested] 6+ messages in thread
* [dpdk-test-report] |SUCCESS| pw82090-82097 [PATCH] [v5, 8/8] test/ring: user uintptr_t instead of unsigned long
@ 2020-10-25 6:50 dpdklab
0 siblings, 0 replies; 6+ messages in thread
From: dpdklab @ 2020-10-25 6:50 UTC (permalink / raw)
To: Test Report; +Cc: dpdk-test-reports
[-- Attachment #1: Type: text/plain, Size: 1934 bytes --]
Test-Label: iol-intel-Performance
Test-Status: SUCCESS
http://dpdk.org/patch/82097
_Performance Testing PASS_
Submitter: Honnappa Nagarahalli <honnappa.nagarahalli@arm.com>
Date: Sunday, October 25 2020 05:45:56
DPDK git baseline: Repo:dpdk
Branch: master
CommitID:2b8e4418ed4f85e44494981e9c6ae6a0e37dfc3a
82090-82097 --> performance testing pass
Test environment and result as below:
Ubuntu 18.04
Kernel: 4.15.0-generic
Compiler: gcc 7.4
NIC: Intel Corporation Ethernet Converged Network Adapter XL710-QDA2 40000 Mbps
Target: x86_64-native-linuxapp-gcc
Fail/Total: 0/2
Detail performance results:
+------------+---------+-------------------------------------+
| frame_size | txd/rxd | throughput difference from expected |
+============+=========+=====================================+
| 64 | 512 | 2.875 |
+------------+---------+-------------------------------------+
| 64 | 2048 | 1.734 |
+------------+---------+-------------------------------------+
Ubuntu 18.04
Kernel: 4.15.0-generic
Compiler: gcc 7.4
NIC: Intel Corporation Ethernet Converged Network Adapter 82599ES 10000 Mbps
Target: x86_64-native-linuxapp-gcc
Fail/Total: 0/2
Detail performance results:
+------------+---------+-------------------------------------+
| frame_size | txd/rxd | throughput difference from expected |
+============+=========+=====================================+
| 64 | 512 | 1.827 |
+------------+---------+-------------------------------------+
| 64 | 2048 | 1.026 |
+------------+---------+-------------------------------------+
To view detailed results, visit:
https://lab.dpdk.org/results/dashboard/patchsets/13993/
UNH-IOL DPDK Community Lab
To manage your email subscriptions, visit:
https://lab.dpdk.org/results/dashboard/preferences/subscriptions/
^ permalink raw reply [flat|nested] 6+ messages in thread
* [dpdk-test-report] |SUCCESS| pw82090-82097 [PATCH] [v5, 8/8] test/ring: user uintptr_t instead of unsigned long
@ 2020-10-25 6:33 dpdklab
0 siblings, 0 replies; 6+ messages in thread
From: dpdklab @ 2020-10-25 6:33 UTC (permalink / raw)
To: Test Report; +Cc: dpdk-test-reports
[-- Attachment #1: Type: text/plain, Size: 2011 bytes --]
Test-Label: iol-testing
Test-Status: SUCCESS
http://dpdk.org/patch/82097
_Testing PASS_
Submitter: Honnappa Nagarahalli <honnappa.nagarahalli@arm.com>
Date: Sunday, October 25 2020 05:45:56
DPDK git baseline: Repo:dpdk
Branch: master
CommitID:2b8e4418ed4f85e44494981e9c6ae6a0e37dfc3a
82090-82097 --> testing pass
Test environment and result as below:
+---------------------+--------------------+----------------+
| Environment | dpdk_meson_compile | dpdk_unit_test |
+=====================+====================+================+
| Windows Server 2019 | PASS | SKIPPED |
+---------------------+--------------------+----------------+
| FreeBSD 11.2 | PASS | SKIPPED |
+---------------------+--------------------+----------------+
| Ubuntu 18.04 | PASS | PASS |
+---------------------+--------------------+----------------+
| Fedora 31 | PASS | SKIPPED |
+---------------------+--------------------+----------------+
| CentOS 8 | PASS | SKIPPED |
+---------------------+--------------------+----------------+
| openSUSE Leap 15 | PASS | SKIPPED |
+---------------------+--------------------+----------------+
| Arch Linux | PASS | SKIPPED |
+---------------------+--------------------+----------------+
Windows Server 2019
Kernel: 10.0
Compiler: clang 9.0
FreeBSD 11.2
Kernel: 11.2
Compiler: gcc 8.3
Ubuntu 18.04
Kernel: 4.15.0-generic
Compiler: gcc 7.4
Fedora 31
Kernel: 5.3.16
Compiler: gcc 9.2.1
CentOS 8
Kernel: 4.18.0.el8_0
Compiler: gcc 8.3.1
openSUSE Leap 15
Kernel: 4.12.14
Compiler: gcc 7.4.1
Arch Linux
Kernel: latest
Compiler: gcc latest
To view detailed results, visit:
https://lab.dpdk.org/results/dashboard/patchsets/13993/
UNH-IOL DPDK Community Lab
To manage your email subscriptions, visit:
https://lab.dpdk.org/results/dashboard/preferences/subscriptions/
^ permalink raw reply [flat|nested] 6+ messages in thread
* [dpdk-test-report] |SUCCESS| pw82090-82097 [PATCH] [v5, 8/8] test/ring: user uintptr_t instead of unsigned long
@ 2020-10-25 6:32 dpdklab
0 siblings, 0 replies; 6+ messages in thread
From: dpdklab @ 2020-10-25 6:32 UTC (permalink / raw)
To: Ajit Khaparde, Test Report; +Cc: dpdk-test-reports
[-- Attachment #1: Type: text/plain, Size: 1285 bytes --]
Test-Label: iol-broadcom-Performance
Test-Status: SUCCESS
http://dpdk.org/patch/82097
_Performance Testing PASS_
Submitter: Honnappa Nagarahalli <honnappa.nagarahalli@arm.com>
Date: Sunday, October 25 2020 05:45:56
DPDK git baseline: Repo:dpdk
Branch: master
CommitID:2b8e4418ed4f85e44494981e9c6ae6a0e37dfc3a
82090-82097 --> performance testing pass
Test environment and result as below:
Ubuntu 18.04
Kernel: 4.15.0-65-generic
Compiler: gcc gcc (Ubuntu 7.4.0-1ubuntu1~18.04.1) 7.4.0
NIC: Broadcom Inc. brcm_57414 25000 Mbps
Target: x86_64-native-linuxapp-gcc
Fail/Total: 0/2
Detail performance results:
+------------+---------+-------------------------------------+
| frame_size | txd/rxd | throughput difference from expected |
+============+=========+=====================================+
| 64 | 512 | 0.003 |
+------------+---------+-------------------------------------+
| 64 | 2048 | 0.027 |
+------------+---------+-------------------------------------+
To view detailed results, visit:
https://lab.dpdk.org/results/dashboard/patchsets/13993/
UNH-IOL DPDK Community Lab
To manage your email subscriptions, visit:
https://lab.dpdk.org/results/dashboard/preferences/subscriptions/
^ permalink raw reply [flat|nested] 6+ messages in thread
* [dpdk-test-report] |SUCCESS| pw82090-82097 [PATCH] [v5, 8/8] test/ring: user uintptr_t instead of unsigned long
@ 2020-10-25 6:29 dpdklab
0 siblings, 0 replies; 6+ messages in thread
From: dpdklab @ 2020-10-25 6:29 UTC (permalink / raw)
To: Test Report; +Cc: dpdk-test-reports
[-- Attachment #1: Type: text/plain, Size: 807 bytes --]
Test-Label: iol-intel-Functional
Test-Status: SUCCESS
http://dpdk.org/patch/82097
_Functional Testing PASS_
Submitter: Honnappa Nagarahalli <honnappa.nagarahalli@arm.com>
Date: Sunday, October 25 2020 05:45:56
DPDK git baseline: Repo:dpdk
Branch: master
CommitID:2b8e4418ed4f85e44494981e9c6ae6a0e37dfc3a
82090-82097 --> functional testing pass
Test environment and result as below:
Ubuntu 18.04
Kernel: 4.15.0-generic
Compiler: gcc 7.4
NIC: Intel Corporation Ethernet Converged Network Adapter XL710-QDA2 40000 Mbps
Target: x86_64-native-linuxapp-gcc
Fail/Total: 0/3
To view detailed results, visit:
https://lab.dpdk.org/results/dashboard/patchsets/13993/
UNH-IOL DPDK Community Lab
To manage your email subscriptions, visit:
https://lab.dpdk.org/results/dashboard/preferences/subscriptions/
^ permalink raw reply [flat|nested] 6+ messages in thread
end of thread, other threads:[~2020-10-25 7:04 UTC | newest]
Thread overview: 6+ messages (download: mbox.gz / follow: Atom feed)
-- links below jump to the message on this page --
2020-10-25 6:27 [dpdk-test-report] |SUCCESS| pw82090-82097 [PATCH] [v5, 8/8] test/ring: user uintptr_t instead of unsigned long dpdklab
2020-10-25 6:29 dpdklab
2020-10-25 6:32 dpdklab
2020-10-25 6:33 dpdklab
2020-10-25 6:50 dpdklab
2020-10-25 7:04 dpdklab
This is a public inbox, see mirroring instructions
for how to clone and mirror all data and code used for this inbox;
as well as URLs for NNTP newsgroup(s).