automatic DPDK test reports
 help / color / mirror / Atom feed
* [dpdk-test-report] |SUCCESS| pw86402-86400 [PATCH] [v2, 5/5] doc: update the advanced E-switch mirroring supports
@ 2021-01-12 18:03 dpdklab
  0 siblings, 0 replies; 12+ messages in thread
From: dpdklab @ 2021-01-12 18:03 UTC (permalink / raw)
  To: Test Report; +Cc: dpdk-test-reports

[-- Attachment #1: Type: text/plain, Size: 789 bytes --]

Test-Label: iol-intel-Functional
Test-Status: SUCCESS
http://dpdk.org/patch/86400

_Functional Testing PASS_

Submitter: Jiawei Wang <jiaweiw@nvidia.com>
Date: Tuesday, January 12 2021 10:29:19 
DPDK git baseline: Repo:dpdk
  Branch: master
  CommitID:b1fd151267e6791a7649090c185413293549d033

86402-86400 --> functional testing pass

Test environment and result as below:

Ubuntu 18.04
Kernel: 4.15.0-generic
Compiler: gcc 7.4
NIC: Intel Corporation Ethernet Converged Network Adapter XL710-QDA2 40000 Mbps
Target: x86_64-native-linuxapp-gcc
Fail/Total: 0/3


To view detailed results, visit:
https://lab.dpdk.org/results/dashboard/patchsets/15123/

UNH-IOL DPDK Community Lab

To manage your email subscriptions, visit: 
https://lab.dpdk.org/results/dashboard/preferences/subscriptions/

^ permalink raw reply	[flat|nested] 12+ messages in thread
* [dpdk-test-report] |SUCCESS| pw86402-86400 [PATCH] [v2, 5/5] doc: update the advanced E-switch mirroring supports
@ 2021-01-13 10:28 dpdklab
  0 siblings, 0 replies; 12+ messages in thread
From: dpdklab @ 2021-01-13 10:28 UTC (permalink / raw)
  To: Test Report; +Cc: dpdk-test-reports

[-- Attachment #1: Type: text/plain, Size: 2998 bytes --]

Test-Label: iol-testing
Test-Status: SUCCESS
http://dpdk.org/patch/86400

_Testing PASS_

Submitter: Jiawei Wang <jiaweiw@nvidia.com>
Date: Tuesday, January 12 2021 10:29:19 
DPDK git baseline: Repo:dpdk
  Branch: master
  CommitID:b1fd151267e6791a7649090c185413293549d033

86402-86400 --> testing pass

Test environment and result as below:

+---------------------+----------------------+--------------------+-------------------+----------------+
|     Environment     | dpdk_mingw64_compile | dpdk_meson_compile | dpdk_compile_spdk | dpdk_unit_test |
+=====================+======================+====================+===================+================+
| Windows Server 2019 | PASS                 | PASS               | SKIPPED           | SKIPPED        |
+---------------------+----------------------+--------------------+-------------------+----------------+
| FreeBSD 11.2        | SKIPPED              | PASS               | SKIPPED           | SKIPPED        |
+---------------------+----------------------+--------------------+-------------------+----------------+
| CentOS 8            | SKIPPED              | PASS               | SKIPPED           | SKIPPED        |
+---------------------+----------------------+--------------------+-------------------+----------------+
| Fedora 31           | SKIPPED              | PASS               | PASS              | SKIPPED        |
+---------------------+----------------------+--------------------+-------------------+----------------+
| openSUSE Leap 15    | SKIPPED              | PASS               | SKIPPED           | SKIPPED        |
+---------------------+----------------------+--------------------+-------------------+----------------+
| Arch Linux          | SKIPPED              | PASS               | SKIPPED           | SKIPPED        |
+---------------------+----------------------+--------------------+-------------------+----------------+
| Ubuntu 18.04        | SKIPPED              | PASS               | PASS              | PASS           |
+---------------------+----------------------+--------------------+-------------------+----------------+
| Ubuntu 18.04 ARM    | SKIPPED              | PASS               | SKIPPED           | SKIPPED        |
+---------------------+----------------------+--------------------+-------------------+----------------+


Windows Server 2019
	Kernel: 10.0
	Compiler: clang 9.0

FreeBSD 11.2
	Kernel: 11.2
	Compiler: gcc 8.3

CentOS 8
	Kernel: 4.18.0.el8_0
	Compiler: gcc 8.3.1

Fedora 31
	Kernel: 5.3.16
	Compiler: gcc 9.2.1

openSUSE Leap 15
	Kernel: 4.12.14
	Compiler: gcc 7.4.1

Arch Linux
	Kernel: latest
	Compiler: gcc latest

Ubuntu 18.04
	Kernel: 4.15.0-generic
	Compiler: gcc 7.5

Ubuntu 18.04 ARM
	Kernel: 5.4.0-53-generic
	Compiler: gcc 9.3

To view detailed results, visit:
https://lab.dpdk.org/results/dashboard/patchsets/15123/

UNH-IOL DPDK Community Lab

To manage your email subscriptions, visit: 
https://lab.dpdk.org/results/dashboard/preferences/subscriptions/

^ permalink raw reply	[flat|nested] 12+ messages in thread
* [dpdk-test-report] |SUCCESS| pw86402-86400 [PATCH] [v2, 5/5] doc: update the advanced E-switch mirroring supports
@ 2021-01-13 10:27 dpdklab
  0 siblings, 0 replies; 12+ messages in thread
From: dpdklab @ 2021-01-13 10:27 UTC (permalink / raw)
  To: Test Report; +Cc: dpdk-test-reports

[-- Attachment #1: Type: text/plain, Size: 921 bytes --]

Test-Label: iol-abi-testing
Test-Status: SUCCESS
http://dpdk.org/patch/86400

_Testing PASS_

Submitter: Jiawei Wang <jiaweiw@nvidia.com>
Date: Tuesday, January 12 2021 10:29:19 
DPDK git baseline: Repo:dpdk
  Branch: master
  CommitID:b1fd151267e6791a7649090c185413293549d033

86402-86400 --> testing pass

Test environment and result as below:

+------------------+----------+
|   Environment    | abi_test |
+==================+==========+
| Ubuntu 18.04     | PASS     |
+------------------+----------+
| Ubuntu 18.04 ARM | PASS     |
+------------------+----------+


Ubuntu 18.04
	Kernel: 4.15.0-generic
	Compiler: gcc 7.5

Ubuntu 18.04 ARM
	Kernel: 5.4.0-53-generic
	Compiler: gcc 9.3

To view detailed results, visit:
https://lab.dpdk.org/results/dashboard/patchsets/15123/

UNH-IOL DPDK Community Lab

To manage your email subscriptions, visit: 
https://lab.dpdk.org/results/dashboard/preferences/subscriptions/

^ permalink raw reply	[flat|nested] 12+ messages in thread
* [dpdk-test-report] |SUCCESS| pw86402-86400 [PATCH] [v2, 5/5] doc: update the advanced E-switch mirroring supports
@ 2021-01-13  9:02 dpdklab
  0 siblings, 0 replies; 12+ messages in thread
From: dpdklab @ 2021-01-13  9:02 UTC (permalink / raw)
  To: Test Report; +Cc: dpdk-test-reports

[-- Attachment #1: Type: text/plain, Size: 2998 bytes --]

Test-Label: iol-testing
Test-Status: SUCCESS
http://dpdk.org/patch/86400

_Testing PASS_

Submitter: Jiawei Wang <jiaweiw@nvidia.com>
Date: Tuesday, January 12 2021 10:29:19 
DPDK git baseline: Repo:dpdk
  Branch: master
  CommitID:b1fd151267e6791a7649090c185413293549d033

86402-86400 --> testing pass

Test environment and result as below:

+---------------------+----------------------+--------------------+-------------------+----------------+
|     Environment     | dpdk_mingw64_compile | dpdk_meson_compile | dpdk_compile_spdk | dpdk_unit_test |
+=====================+======================+====================+===================+================+
| Windows Server 2019 | PASS                 | PASS               | SKIPPED           | SKIPPED        |
+---------------------+----------------------+--------------------+-------------------+----------------+
| FreeBSD 11.2        | SKIPPED              | PASS               | SKIPPED           | SKIPPED        |
+---------------------+----------------------+--------------------+-------------------+----------------+
| CentOS 8            | SKIPPED              | PASS               | SKIPPED           | SKIPPED        |
+---------------------+----------------------+--------------------+-------------------+----------------+
| Fedora 31           | SKIPPED              | PASS               | PASS              | SKIPPED        |
+---------------------+----------------------+--------------------+-------------------+----------------+
| openSUSE Leap 15    | SKIPPED              | PASS               | SKIPPED           | SKIPPED        |
+---------------------+----------------------+--------------------+-------------------+----------------+
| Arch Linux          | SKIPPED              | PASS               | SKIPPED           | SKIPPED        |
+---------------------+----------------------+--------------------+-------------------+----------------+
| Ubuntu 18.04        | SKIPPED              | PASS               | PASS              | PASS           |
+---------------------+----------------------+--------------------+-------------------+----------------+
| Ubuntu 18.04 ARM    | SKIPPED              | PASS               | SKIPPED           | SKIPPED        |
+---------------------+----------------------+--------------------+-------------------+----------------+


Windows Server 2019
	Kernel: 10.0
	Compiler: clang 9.0

FreeBSD 11.2
	Kernel: 11.2
	Compiler: gcc 8.3

CentOS 8
	Kernel: 4.18.0.el8_0
	Compiler: gcc 8.3.1

Fedora 31
	Kernel: 5.3.16
	Compiler: gcc 9.2.1

openSUSE Leap 15
	Kernel: 4.12.14
	Compiler: gcc 7.4.1

Arch Linux
	Kernel: latest
	Compiler: gcc latest

Ubuntu 18.04
	Kernel: 4.15.0-generic
	Compiler: gcc 7.5

Ubuntu 18.04 ARM
	Kernel: 5.4.0-53-generic
	Compiler: gcc 9.3

To view detailed results, visit:
https://lab.dpdk.org/results/dashboard/patchsets/15123/

UNH-IOL DPDK Community Lab

To manage your email subscriptions, visit: 
https://lab.dpdk.org/results/dashboard/preferences/subscriptions/

^ permalink raw reply	[flat|nested] 12+ messages in thread
* [dpdk-test-report] |SUCCESS| pw86402-86400 [PATCH] [v2, 5/5] doc: update the advanced E-switch mirroring supports
@ 2021-01-13  9:01 dpdklab
  0 siblings, 0 replies; 12+ messages in thread
From: dpdklab @ 2021-01-13  9:01 UTC (permalink / raw)
  To: Test Report; +Cc: dpdk-test-reports

[-- Attachment #1: Type: text/plain, Size: 921 bytes --]

Test-Label: iol-abi-testing
Test-Status: SUCCESS
http://dpdk.org/patch/86400

_Testing PASS_

Submitter: Jiawei Wang <jiaweiw@nvidia.com>
Date: Tuesday, January 12 2021 10:29:19 
DPDK git baseline: Repo:dpdk
  Branch: master
  CommitID:b1fd151267e6791a7649090c185413293549d033

86402-86400 --> testing pass

Test environment and result as below:

+------------------+----------+
|   Environment    | abi_test |
+==================+==========+
| Ubuntu 18.04     | PASS     |
+------------------+----------+
| Ubuntu 18.04 ARM | PASS     |
+------------------+----------+


Ubuntu 18.04
	Kernel: 4.15.0-generic
	Compiler: gcc 7.5

Ubuntu 18.04 ARM
	Kernel: 5.4.0-53-generic
	Compiler: gcc 9.3

To view detailed results, visit:
https://lab.dpdk.org/results/dashboard/patchsets/15123/

UNH-IOL DPDK Community Lab

To manage your email subscriptions, visit: 
https://lab.dpdk.org/results/dashboard/preferences/subscriptions/

^ permalink raw reply	[flat|nested] 12+ messages in thread
* [dpdk-test-report] |SUCCESS| pw86402-86400 [PATCH] [v2, 5/5] doc: update the advanced E-switch mirroring supports
@ 2021-01-12 17:54 dpdklab
  0 siblings, 0 replies; 12+ messages in thread
From: dpdklab @ 2021-01-12 17:54 UTC (permalink / raw)
  To: Test Report; +Cc: dpdk-test-reports

[-- Attachment #1: Type: text/plain, Size: 1916 bytes --]

Test-Label: iol-intel-Performance
Test-Status: SUCCESS
http://dpdk.org/patch/86400

_Performance Testing PASS_

Submitter: Jiawei Wang <jiaweiw@nvidia.com>
Date: Tuesday, January 12 2021 10:29:19 
DPDK git baseline: Repo:dpdk
  Branch: master
  CommitID:b1fd151267e6791a7649090c185413293549d033

86402-86400 --> performance testing pass

Test environment and result as below:

Ubuntu 18.04
Kernel: 4.15.0-generic
Compiler: gcc 7.4
NIC: Intel Corporation Ethernet Converged Network Adapter 82599ES 10000 Mbps
Target: x86_64-native-linuxapp-gcc
Fail/Total: 0/2

Detail performance results: 
+------------+---------+-------------------------------------+
| frame_size | txd/rxd | throughput difference from expected |
+============+=========+=====================================+
| 64         | 512     | 1.991                               |
+------------+---------+-------------------------------------+
| 64         | 2048    | 1.045                               |
+------------+---------+-------------------------------------+

Ubuntu 18.04
Kernel: 4.15.0-generic
Compiler: gcc 7.4
NIC: Intel Corporation Ethernet Converged Network Adapter XL710-QDA2 40000 Mbps
Target: x86_64-native-linuxapp-gcc
Fail/Total: 0/2

Detail performance results: 
+------------+---------+-------------------------------------+
| frame_size | txd/rxd | throughput difference from expected |
+============+=========+=====================================+
| 64         | 512     | 2.810                               |
+------------+---------+-------------------------------------+
| 64         | 2048    | 2.076                               |
+------------+---------+-------------------------------------+

To view detailed results, visit:
https://lab.dpdk.org/results/dashboard/patchsets/15123/

UNH-IOL DPDK Community Lab

To manage your email subscriptions, visit: 
https://lab.dpdk.org/results/dashboard/preferences/subscriptions/

^ permalink raw reply	[flat|nested] 12+ messages in thread
* [dpdk-test-report] |SUCCESS| pw86402-86400 [PATCH] [v2, 5/5] doc: update the advanced E-switch mirroring supports
@ 2021-01-12 17:41 dpdklab
  0 siblings, 0 replies; 12+ messages in thread
From: dpdklab @ 2021-01-12 17:41 UTC (permalink / raw)
  To: Test Report; +Cc: dpdk-test-reports

[-- Attachment #1: Type: text/plain, Size: 789 bytes --]

Test-Label: iol-intel-Functional
Test-Status: SUCCESS
http://dpdk.org/patch/86400

_Functional Testing PASS_

Submitter: Jiawei Wang <jiaweiw@nvidia.com>
Date: Tuesday, January 12 2021 10:29:19 
DPDK git baseline: Repo:dpdk
  Branch: master
  CommitID:b1fd151267e6791a7649090c185413293549d033

86402-86400 --> functional testing pass

Test environment and result as below:

Ubuntu 18.04
Kernel: 4.15.0-generic
Compiler: gcc 7.4
NIC: Intel Corporation Ethernet Converged Network Adapter XL710-QDA2 40000 Mbps
Target: x86_64-native-linuxapp-gcc
Fail/Total: 0/3


To view detailed results, visit:
https://lab.dpdk.org/results/dashboard/patchsets/15123/

UNH-IOL DPDK Community Lab

To manage your email subscriptions, visit: 
https://lab.dpdk.org/results/dashboard/preferences/subscriptions/

^ permalink raw reply	[flat|nested] 12+ messages in thread
* [dpdk-test-report] |SUCCESS| pw86402-86400 [PATCH] [v2, 5/5] doc: update the advanced E-switch mirroring supports
@ 2021-01-12 17:31 dpdklab
  0 siblings, 0 replies; 12+ messages in thread
From: dpdklab @ 2021-01-12 17:31 UTC (permalink / raw)
  To: Test Report; +Cc: dpdk-test-reports

[-- Attachment #1: Type: text/plain, Size: 1916 bytes --]

Test-Label: iol-intel-Performance
Test-Status: SUCCESS
http://dpdk.org/patch/86400

_Performance Testing PASS_

Submitter: Jiawei Wang <jiaweiw@nvidia.com>
Date: Tuesday, January 12 2021 10:29:19 
DPDK git baseline: Repo:dpdk
  Branch: master
  CommitID:b1fd151267e6791a7649090c185413293549d033

86402-86400 --> performance testing pass

Test environment and result as below:

Ubuntu 18.04
Kernel: 4.15.0-generic
Compiler: gcc 7.4
NIC: Intel Corporation Ethernet Converged Network Adapter 82599ES 10000 Mbps
Target: x86_64-native-linuxapp-gcc
Fail/Total: 0/2

Detail performance results: 
+------------+---------+-------------------------------------+
| frame_size | txd/rxd | throughput difference from expected |
+============+=========+=====================================+
| 64         | 512     | 2.073                               |
+------------+---------+-------------------------------------+
| 64         | 2048    | 1.221                               |
+------------+---------+-------------------------------------+

Ubuntu 18.04
Kernel: 4.15.0-generic
Compiler: gcc 7.4
NIC: Intel Corporation Ethernet Converged Network Adapter XL710-QDA2 40000 Mbps
Target: x86_64-native-linuxapp-gcc
Fail/Total: 0/2

Detail performance results: 
+------------+---------+-------------------------------------+
| frame_size | txd/rxd | throughput difference from expected |
+============+=========+=====================================+
| 64         | 512     | 2.793                               |
+------------+---------+-------------------------------------+
| 64         | 2048    | 2.054                               |
+------------+---------+-------------------------------------+

To view detailed results, visit:
https://lab.dpdk.org/results/dashboard/patchsets/15123/

UNH-IOL DPDK Community Lab

To manage your email subscriptions, visit: 
https://lab.dpdk.org/results/dashboard/preferences/subscriptions/

^ permalink raw reply	[flat|nested] 12+ messages in thread
* [dpdk-test-report] |SUCCESS| pw86402-86400 [PATCH] [v2, 5/5] doc: update the advanced E-switch mirroring supports
@ 2021-01-12 11:56 dpdklab
  0 siblings, 0 replies; 12+ messages in thread
From: dpdklab @ 2021-01-12 11:56 UTC (permalink / raw)
  To: Ajit Khaparde, Test Report; +Cc: dpdk-test-reports

[-- Attachment #1: Type: text/plain, Size: 1267 bytes --]

Test-Label: iol-broadcom-Performance
Test-Status: SUCCESS
http://dpdk.org/patch/86400

_Performance Testing PASS_

Submitter: Jiawei Wang <jiaweiw@nvidia.com>
Date: Tuesday, January 12 2021 10:29:19 
DPDK git baseline: Repo:dpdk
  Branch: master
  CommitID:b1fd151267e6791a7649090c185413293549d033

86402-86400 --> performance testing pass

Test environment and result as below:

Ubuntu 18.04
Kernel: 4.15.0-65-generic
Compiler: gcc gcc (Ubuntu 7.4.0-1ubuntu1~18.04.1) 7.4.0
NIC: Broadcom Inc. brcm_57414 25000 Mbps
Target: x86_64-native-linuxapp-gcc
Fail/Total: 0/2

Detail performance results: 
+------------+---------+-------------------------------------+
| frame_size | txd/rxd | throughput difference from expected |
+============+=========+=====================================+
| 64         | 512     | 0.056                               |
+------------+---------+-------------------------------------+
| 64         | 2048    | 0.001                               |
+------------+---------+-------------------------------------+

To view detailed results, visit:
https://lab.dpdk.org/results/dashboard/patchsets/15123/

UNH-IOL DPDK Community Lab

To manage your email subscriptions, visit: 
https://lab.dpdk.org/results/dashboard/preferences/subscriptions/

^ permalink raw reply	[flat|nested] 12+ messages in thread
* [dpdk-test-report] |SUCCESS| pw86402-86400 [PATCH] [v2, 5/5] doc: update the advanced E-switch mirroring supports
@ 2021-01-12 11:50 dpdklab
  0 siblings, 0 replies; 12+ messages in thread
From: dpdklab @ 2021-01-12 11:50 UTC (permalink / raw)
  To: Ajit Khaparde, Test Report; +Cc: dpdk-test-reports

[-- Attachment #1: Type: text/plain, Size: 794 bytes --]

Test-Label: iol-broadcom-Functional
Test-Status: SUCCESS
http://dpdk.org/patch/86400

_Functional Testing PASS_

Submitter: Jiawei Wang <jiaweiw@nvidia.com>
Date: Tuesday, January 12 2021 10:29:19 
DPDK git baseline: Repo:dpdk
  Branch: master
  CommitID:b1fd151267e6791a7649090c185413293549d033

86402-86400 --> functional testing pass

Test environment and result as below:

Ubuntu 18.04
Kernel: 4.15.0-65-generic
Compiler: gcc gcc (Ubuntu 7.4.0-1ubuntu1~18.04.1) 7.4.0
NIC: Broadcom Inc. brcm_57414 25000 Mbps
Target: x86_64-native-linuxapp-gcc
Fail/Total: 0/3


To view detailed results, visit:
https://lab.dpdk.org/results/dashboard/patchsets/15123/

UNH-IOL DPDK Community Lab

To manage your email subscriptions, visit: 
https://lab.dpdk.org/results/dashboard/preferences/subscriptions/

^ permalink raw reply	[flat|nested] 12+ messages in thread
* [dpdk-test-report] |SUCCESS| pw86402-86400 [PATCH] [v2, 5/5] doc: update the advanced E-switch mirroring supports
@ 2021-01-12 11:24 dpdklab
  0 siblings, 0 replies; 12+ messages in thread
From: dpdklab @ 2021-01-12 11:24 UTC (permalink / raw)
  To: Ajit Khaparde, Test Report; +Cc: dpdk-test-reports

[-- Attachment #1: Type: text/plain, Size: 794 bytes --]

Test-Label: iol-broadcom-Functional
Test-Status: SUCCESS
http://dpdk.org/patch/86400

_Functional Testing PASS_

Submitter: Jiawei Wang <jiaweiw@nvidia.com>
Date: Tuesday, January 12 2021 10:29:19 
DPDK git baseline: Repo:dpdk
  Branch: master
  CommitID:b1fd151267e6791a7649090c185413293549d033

86402-86400 --> functional testing pass

Test environment and result as below:

Ubuntu 18.04
Kernel: 4.15.0-65-generic
Compiler: gcc gcc (Ubuntu 7.4.0-1ubuntu1~18.04.1) 7.4.0
NIC: Broadcom Inc. brcm_57414 25000 Mbps
Target: x86_64-native-linuxapp-gcc
Fail/Total: 0/3


To view detailed results, visit:
https://lab.dpdk.org/results/dashboard/patchsets/15123/

UNH-IOL DPDK Community Lab

To manage your email subscriptions, visit: 
https://lab.dpdk.org/results/dashboard/preferences/subscriptions/

^ permalink raw reply	[flat|nested] 12+ messages in thread
* [dpdk-test-report] |SUCCESS| pw86402-86400 [PATCH] [v2, 5/5] doc: update the advanced E-switch mirroring supports
@ 2021-01-12 11:16 dpdklab
  0 siblings, 0 replies; 12+ messages in thread
From: dpdklab @ 2021-01-12 11:16 UTC (permalink / raw)
  To: Ajit Khaparde, Test Report; +Cc: dpdk-test-reports

[-- Attachment #1: Type: text/plain, Size: 1267 bytes --]

Test-Label: iol-broadcom-Performance
Test-Status: SUCCESS
http://dpdk.org/patch/86400

_Performance Testing PASS_

Submitter: Jiawei Wang <jiaweiw@nvidia.com>
Date: Tuesday, January 12 2021 10:29:19 
DPDK git baseline: Repo:dpdk
  Branch: master
  CommitID:b1fd151267e6791a7649090c185413293549d033

86402-86400 --> performance testing pass

Test environment and result as below:

Ubuntu 18.04
Kernel: 4.15.0-65-generic
Compiler: gcc gcc (Ubuntu 7.4.0-1ubuntu1~18.04.1) 7.4.0
NIC: Broadcom Inc. brcm_57414 25000 Mbps
Target: x86_64-native-linuxapp-gcc
Fail/Total: 0/2

Detail performance results: 
+------------+---------+-------------------------------------+
| frame_size | txd/rxd | throughput difference from expected |
+============+=========+=====================================+
| 64         | 512     | 0.091                               |
+------------+---------+-------------------------------------+
| 64         | 2048    | 0.017                               |
+------------+---------+-------------------------------------+

To view detailed results, visit:
https://lab.dpdk.org/results/dashboard/patchsets/15123/

UNH-IOL DPDK Community Lab

To manage your email subscriptions, visit: 
https://lab.dpdk.org/results/dashboard/preferences/subscriptions/

^ permalink raw reply	[flat|nested] 12+ messages in thread

end of thread, other threads:[~2021-01-13 10:28 UTC | newest]

Thread overview: 12+ messages (download: mbox.gz / follow: Atom feed)
-- links below jump to the message on this page --
2021-01-12 18:03 [dpdk-test-report] |SUCCESS| pw86402-86400 [PATCH] [v2, 5/5] doc: update the advanced E-switch mirroring supports dpdklab
  -- strict thread matches above, loose matches on Subject: below --
2021-01-13 10:28 dpdklab
2021-01-13 10:27 dpdklab
2021-01-13  9:02 dpdklab
2021-01-13  9:01 dpdklab
2021-01-12 17:54 dpdklab
2021-01-12 17:41 dpdklab
2021-01-12 17:31 dpdklab
2021-01-12 11:56 dpdklab
2021-01-12 11:50 dpdklab
2021-01-12 11:24 dpdklab
2021-01-12 11:16 dpdklab

automatic DPDK test reports

This inbox may be cloned and mirrored by anyone:

	git clone --mirror http://inbox.dpdk.org/test-report/0 test-report/git/0.git

	# If you have public-inbox 1.1+ installed, you may
	# initialize and index your mirror using the following commands:
	public-inbox-init -V2 test-report test-report/ http://inbox.dpdk.org/test-report \
		test-report@dpdk.org
	public-inbox-index test-report

Example config snippet for mirrors.
Newsgroup available over NNTP:
	nntp://inbox.dpdk.org/inbox.dpdk.test-report


AGPL code for this site: git clone https://public-inbox.org/public-inbox.git