* [dpdk-test-report] |SUCCESS| [GIT MASTER] 543f40f5952a869710e39ff51deccc96c5b88b3f
@ 2021-02-15 15:59 dpdklab
0 siblings, 0 replies; 15+ messages in thread
From: dpdklab @ 2021-02-15 15:59 UTC (permalink / raw)
To: Ali Alnubani, Test Report; +Cc: dpdk-test-reports
[-- Attachment #1: Type: text/plain, Size: 3750 bytes --]
_Performance Testing PASS_
Branch: dpdk-next-net-mlx
543f40f5952a869710e39ff51deccc96c5b88b3f --> performance testing pass
Test environment and result as below:
Ubuntu 18.04
Kernel: 4.15.0-generic
Compiler: gcc 7.4
NIC: Mellanox ConnectX-4 Lx 40000 Mbps
Target: x86_64-native-linuxapp-gcc
Fail/Total: 0/6
Detail performance results:
+------------+---------+-------------------------------------+
| frame_size | txd/rxd | throughput difference from expected |
+============+=========+=====================================+
| 64 | 256 | -0.3463842593907041% |
+------------+---------+-------------------------------------+
| 128 | 256 | 1.2096307442991066% |
+------------+---------+-------------------------------------+
| 256 | 256 | 0.15355928485247922% |
+------------+---------+-------------------------------------+
| 512 | 256 | 0.0479131175468502% |
+------------+---------+-------------------------------------+
| 1024 | 256 | -0.1462446464013488% |
+------------+---------+-------------------------------------+
| 1518 | 256 | -0.2614982310413836% |
+------------+---------+-------------------------------------+
Ubuntu 18.04
Kernel: 4.15.0-generic
Compiler: gcc 7.4
NIC: Mellanox ConnectX-4 Lx 25000 Mbps
Target: x86_64-native-linuxapp-gcc
Fail/Total: 0/6
Detail performance results:
+------------+---------+-------------------------------------+
| frame_size | txd/rxd | throughput difference from expected |
+============+=========+=====================================+
| 64 | 256 | -0.019821044285890252% |
+------------+---------+-------------------------------------+
| 128 | 256 | 0.07952973720608467% |
+------------+---------+-------------------------------------+
| 256 | 256 | -0.07956636331991541% |
+------------+---------+-------------------------------------+
| 512 | 256 | 0.13751611516974657% |
+------------+---------+-------------------------------------+
| 1024 | 256 | 0.08362602441879735% |
+------------+---------+-------------------------------------+
| 1518 | 256 | 0.19733596447952653% |
+------------+---------+-------------------------------------+
Ubuntu 18.04
Kernel: 4.15.0-generic
Compiler: gcc 7.4
NIC: Mellanox ConnectX-5 100000 Mbps
Target: x86_64-native-linuxapp-gcc
Fail/Total: 0/6
Detail performance results:
+------------+---------+-------------------------------------+
| frame_size | txd/rxd | throughput difference from expected |
+============+=========+=====================================+
| 64 | 256 | 0.030794664419205264% |
+------------+---------+-------------------------------------+
| 128 | 256 | 0.20555936221040594% |
+------------+---------+-------------------------------------+
| 256 | 256 | 0.039852545581344614% |
+------------+---------+-------------------------------------+
| 512 | 256 | 0.026555722758255407% |
+------------+---------+-------------------------------------+
| 1024 | 256 | 2.298453296465912% |
+------------+---------+-------------------------------------+
| 1518 | 256 | -0.12925969447707678% |
+------------+---------+-------------------------------------+
To view detailed results, visit:
https://lab.dpdk.org/results/dashboard/tarballs/13783/
UNH-IOL DPDK Community Lab
To manage your email subscriptions, visit:
https://lab.dpdk.org/results/dashboard/preferences/subscriptions/
^ permalink raw reply [flat|nested] 15+ messages in thread
* [dpdk-test-report] |SUCCESS| [GIT MASTER] 543f40f5952a869710e39ff51deccc96c5b88b3f
@ 2021-02-15 19:53 dpdklab
0 siblings, 0 replies; 15+ messages in thread
From: dpdklab @ 2021-02-15 19:53 UTC (permalink / raw)
To: Test Report; +Cc: dpdk-test-reports
[-- Attachment #1: Type: text/plain, Size: 2433 bytes --]
_Testing PASS_
Branch: dpdk-next-net
543f40f5952a869710e39ff51deccc96c5b88b3f --> testing pass
Test environment and result as below:
+---------------------+----------------------+--------------------+----------------+
| Environment | dpdk_mingw64_compile | dpdk_meson_compile | dpdk_unit_test |
+=====================+======================+====================+================+
| Windows Server 2019 | PASS | PASS | SKIPPED |
+---------------------+----------------------+--------------------+----------------+
| FreeBSD 11.2 | SKIPPED | PASS | SKIPPED |
+---------------------+----------------------+--------------------+----------------+
| Fedora 31 | SKIPPED | PASS | SKIPPED |
+---------------------+----------------------+--------------------+----------------+
| Ubuntu 18.04 | SKIPPED | PASS | PASS |
+---------------------+----------------------+--------------------+----------------+
| CentOS 8 | SKIPPED | PASS | SKIPPED |
+---------------------+----------------------+--------------------+----------------+
| openSUSE Leap 15 | SKIPPED | PASS | SKIPPED |
+---------------------+----------------------+--------------------+----------------+
| Arch Linux | SKIPPED | PASS | SKIPPED |
+---------------------+----------------------+--------------------+----------------+
| Ubuntu 18.04 ARM | SKIPPED | PASS | PASS |
+---------------------+----------------------+--------------------+----------------+
Windows Server 2019
Kernel: 10.0
Compiler: clang 9.0 and gcc 8.1.0 (MinGW)
FreeBSD 11.2
Kernel: 11.2
Compiler: gcc 8.3
Fedora 31
Kernel: 5.3.16
Compiler: gcc 9.2.1
Ubuntu 18.04
Kernel: 4.15.0-generic
Compiler: gcc 7.5
CentOS 8
Kernel: 4.18.0.el8_0
Compiler: gcc 8.3.1
openSUSE Leap 15
Kernel: 4.12.14
Compiler: gcc 7.4.1
Arch Linux
Kernel: latest
Compiler: gcc latest
Ubuntu 18.04 ARM
Kernel: 5.4.0-53-generic
Compiler: gcc 9.3
To view detailed results, visit:
https://lab.dpdk.org/results/dashboard/tarballs/13786/
UNH-IOL DPDK Community Lab
To manage your email subscriptions, visit:
https://lab.dpdk.org/results/dashboard/preferences/subscriptions/
^ permalink raw reply [flat|nested] 15+ messages in thread
* [dpdk-test-report] |SUCCESS| [GIT MASTER] 543f40f5952a869710e39ff51deccc96c5b88b3f
@ 2021-02-15 19:53 dpdklab
0 siblings, 0 replies; 15+ messages in thread
From: dpdklab @ 2021-02-15 19:53 UTC (permalink / raw)
To: Ali Alnubani, Test Report; +Cc: dpdk-test-reports
[-- Attachment #1: Type: text/plain, Size: 3746 bytes --]
_Performance Testing PASS_
Branch: dpdk-next-net
543f40f5952a869710e39ff51deccc96c5b88b3f --> performance testing pass
Test environment and result as below:
Ubuntu 18.04
Kernel: 4.15.0-generic
Compiler: gcc 7.4
NIC: Mellanox ConnectX-4 Lx 25000 Mbps
Target: x86_64-native-linuxapp-gcc
Fail/Total: 0/6
Detail performance results:
+------------+---------+-------------------------------------+
| frame_size | txd/rxd | throughput difference from expected |
+============+=========+=====================================+
| 64 | 256 | -1.0391890361309446% |
+------------+---------+-------------------------------------+
| 128 | 256 | 0.20746887966804536% |
+------------+---------+-------------------------------------+
| 256 | 256 | 1.4172758466358177% |
+------------+---------+-------------------------------------+
| 512 | 256 | 0.46411688869789663% |
+------------+---------+-------------------------------------+
| 1024 | 256 | -0.11707643418631332% |
+------------+---------+-------------------------------------+
| 1518 | 256 | 0.19733596447952653% |
+------------+---------+-------------------------------------+
Ubuntu 18.04
Kernel: 4.15.0-generic
Compiler: gcc 7.4
NIC: Mellanox ConnectX-4 Lx 40000 Mbps
Target: x86_64-native-linuxapp-gcc
Fail/Total: 0/6
Detail performance results:
+------------+---------+-------------------------------------+
| frame_size | txd/rxd | throughput difference from expected |
+============+=========+=====================================+
| 64 | 256 | -0.7098038102268533% |
+------------+---------+-------------------------------------+
| 128 | 256 | 0.4196087510128578% |
+------------+---------+-------------------------------------+
| 256 | 256 | 0.09506050967057805% |
+------------+---------+-------------------------------------+
| 512 | 256 | -0.005323679727415191% |
+------------+---------+-------------------------------------+
| 1024 | 256 | -0.13579860022981197% |
+------------+---------+-------------------------------------+
| 1518 | 256 | -0.12305799107829574% |
+------------+---------+-------------------------------------+
Ubuntu 18.04
Kernel: 4.15.0-generic
Compiler: gcc 7.4
NIC: Mellanox ConnectX-5 100000 Mbps
Target: x86_64-native-linuxapp-gcc
Fail/Total: 0/6
Detail performance results:
+------------+---------+-------------------------------------+
| frame_size | txd/rxd | throughput difference from expected |
+============+=========+=====================================+
| 64 | 256 | -0.356569798538062% |
+------------+---------+-------------------------------------+
| 128 | 256 | 0.1370395748069373% |
+------------+---------+-------------------------------------+
| 256 | 256 | -0.5728803427319019% |
+------------+---------+-------------------------------------+
| 512 | 256 | 0.3540763034433845% |
+------------+---------+-------------------------------------+
| 1024 | 256 | 1.5985483452864313% |
+------------+---------+-------------------------------------+
| 1518 | 256 | -0.4935370152761435% |
+------------+---------+-------------------------------------+
To view detailed results, visit:
https://lab.dpdk.org/results/dashboard/tarballs/13786/
UNH-IOL DPDK Community Lab
To manage your email subscriptions, visit:
https://lab.dpdk.org/results/dashboard/preferences/subscriptions/
^ permalink raw reply [flat|nested] 15+ messages in thread
* [dpdk-test-report] |SUCCESS| [GIT MASTER] 543f40f5952a869710e39ff51deccc96c5b88b3f
@ 2021-02-15 19:42 dpdklab
0 siblings, 0 replies; 15+ messages in thread
From: dpdklab @ 2021-02-15 19:42 UTC (permalink / raw)
To: Test Report; +Cc: dpdk-test-reports
[-- Attachment #1: Type: text/plain, Size: 1699 bytes --]
_Performance Testing PASS_
Branch: dpdk-next-net
543f40f5952a869710e39ff51deccc96c5b88b3f --> performance testing pass
Test environment and result as below:
Ubuntu 18.04
Kernel: 4.15.0-generic
Compiler: gcc 7.4
NIC: Intel Corporation Ethernet Converged Network Adapter 82599ES 10000 Mbps
Target: x86_64-native-linuxapp-gcc
Fail/Total: 0/2
Detail performance results:
+------------+---------+-------------------------------------+
| frame_size | txd/rxd | throughput difference from expected |
+============+=========+=====================================+
| 64 | 512 | 2.792625475629636% |
+------------+---------+-------------------------------------+
| 64 | 2048 | 1.9736275101267051% |
+------------+---------+-------------------------------------+
Ubuntu 18.04
Kernel: 4.15.0-generic
Compiler: gcc 7.4
NIC: Intel Corporation Ethernet Converged Network Adapter XL710-QDA2 40000 Mbps
Target: x86_64-native-linuxapp-gcc
Fail/Total: 0/2
Detail performance results:
+------------+---------+-------------------------------------+
| frame_size | txd/rxd | throughput difference from expected |
+============+=========+=====================================+
| 64 | 512 | 5.426294661580553% |
+------------+---------+-------------------------------------+
| 64 | 2048 | 5.37999151971665% |
+------------+---------+-------------------------------------+
To view detailed results, visit:
https://lab.dpdk.org/results/dashboard/tarballs/13786/
UNH-IOL DPDK Community Lab
To manage your email subscriptions, visit:
https://lab.dpdk.org/results/dashboard/preferences/subscriptions/
^ permalink raw reply [flat|nested] 15+ messages in thread
* [dpdk-test-report] |SUCCESS| [GIT MASTER] 543f40f5952a869710e39ff51deccc96c5b88b3f
@ 2021-02-15 19:33 dpdklab
0 siblings, 0 replies; 15+ messages in thread
From: dpdklab @ 2021-02-15 19:33 UTC (permalink / raw)
To: Ajit Khaparde, Test Report; +Cc: dpdk-test-reports
[-- Attachment #1: Type: text/plain, Size: 1047 bytes --]
_Performance Testing PASS_
Branch: dpdk-next-net
543f40f5952a869710e39ff51deccc96c5b88b3f --> performance testing pass
Test environment and result as below:
Ubuntu 18.04
Kernel: 4.15.0-65-generic
Compiler: gcc gcc (Ubuntu 7.4.0-1ubuntu1~18.04.1) 7.4.0
NIC: Broadcom Inc. brcm_57414 25000 Mbps
Target: x86_64-native-linuxapp-gcc
Fail/Total: 0/2
Detail performance results:
+------------+---------+-------------------------------------+
| frame_size | txd/rxd | throughput difference from expected |
+============+=========+=====================================+
| 64 | 512 | 0.48720419745153404% |
+------------+---------+-------------------------------------+
| 64 | 2048 | -0.0426234748787848% |
+------------+---------+-------------------------------------+
To view detailed results, visit:
https://lab.dpdk.org/results/dashboard/tarballs/13786/
UNH-IOL DPDK Community Lab
To manage your email subscriptions, visit:
https://lab.dpdk.org/results/dashboard/preferences/subscriptions/
^ permalink raw reply [flat|nested] 15+ messages in thread
* [dpdk-test-report] |SUCCESS| [GIT MASTER] 543f40f5952a869710e39ff51deccc96c5b88b3f
@ 2021-02-15 19:26 dpdklab
0 siblings, 0 replies; 15+ messages in thread
From: dpdklab @ 2021-02-15 19:26 UTC (permalink / raw)
To: Ajit Khaparde, Test Report; +Cc: dpdk-test-reports
[-- Attachment #1: Type: text/plain, Size: 575 bytes --]
_Functional Testing PASS_
Branch: dpdk-next-net
543f40f5952a869710e39ff51deccc96c5b88b3f --> functional testing pass
Test environment and result as below:
Ubuntu 18.04
Kernel: 4.15.0-65-generic
Compiler: gcc gcc (Ubuntu 7.4.0-1ubuntu1~18.04.1) 7.4.0
NIC: Broadcom Inc. brcm_57414 25000 Mbps
Target: x86_64-native-linuxapp-gcc
Fail/Total: 0/3
To view detailed results, visit:
https://lab.dpdk.org/results/dashboard/tarballs/13786/
UNH-IOL DPDK Community Lab
To manage your email subscriptions, visit:
https://lab.dpdk.org/results/dashboard/preferences/subscriptions/
^ permalink raw reply [flat|nested] 15+ messages in thread
* [dpdk-test-report] |SUCCESS| [GIT MASTER] 543f40f5952a869710e39ff51deccc96c5b88b3f
@ 2021-02-15 15:50 dpdklab
0 siblings, 0 replies; 15+ messages in thread
From: dpdklab @ 2021-02-15 15:50 UTC (permalink / raw)
To: Test Report; +Cc: dpdk-test-reports
[-- Attachment #1: Type: text/plain, Size: 1703 bytes --]
_Performance Testing PASS_
Branch: dpdk-next-net-mlx
543f40f5952a869710e39ff51deccc96c5b88b3f --> performance testing pass
Test environment and result as below:
Ubuntu 18.04
Kernel: 4.15.0-generic
Compiler: gcc 7.4
NIC: Intel Corporation Ethernet Converged Network Adapter 82599ES 10000 Mbps
Target: x86_64-native-linuxapp-gcc
Fail/Total: 0/2
Detail performance results:
+------------+---------+-------------------------------------+
| frame_size | txd/rxd | throughput difference from expected |
+============+=========+=====================================+
| 64 | 512 | 2.8990759195506457% |
+------------+---------+-------------------------------------+
| 64 | 2048 | 1.5915424171909622% |
+------------+---------+-------------------------------------+
Ubuntu 18.04
Kernel: 4.15.0-generic
Compiler: gcc 7.4
NIC: Intel Corporation Ethernet Converged Network Adapter XL710-QDA2 40000 Mbps
Target: x86_64-native-linuxapp-gcc
Fail/Total: 0/2
Detail performance results:
+------------+---------+-------------------------------------+
| frame_size | txd/rxd | throughput difference from expected |
+============+=========+=====================================+
| 64 | 512 | 5.144694533762059% |
+------------+---------+-------------------------------------+
| 64 | 2048 | 5.439852343301816% |
+------------+---------+-------------------------------------+
To view detailed results, visit:
https://lab.dpdk.org/results/dashboard/tarballs/13783/
UNH-IOL DPDK Community Lab
To manage your email subscriptions, visit:
https://lab.dpdk.org/results/dashboard/preferences/subscriptions/
^ permalink raw reply [flat|nested] 15+ messages in thread
* [dpdk-test-report] |SUCCESS| [GIT MASTER] 543f40f5952a869710e39ff51deccc96c5b88b3f
@ 2021-02-15 15:49 dpdklab
0 siblings, 0 replies; 15+ messages in thread
From: dpdklab @ 2021-02-15 15:49 UTC (permalink / raw)
To: Test Report; +Cc: dpdk-test-reports
[-- Attachment #1: Type: text/plain, Size: 2437 bytes --]
_Testing PASS_
Branch: dpdk-next-net-mlx
543f40f5952a869710e39ff51deccc96c5b88b3f --> testing pass
Test environment and result as below:
+---------------------+----------------------+--------------------+----------------+
| Environment | dpdk_mingw64_compile | dpdk_meson_compile | dpdk_unit_test |
+=====================+======================+====================+================+
| Windows Server 2019 | PASS | PASS | SKIPPED |
+---------------------+----------------------+--------------------+----------------+
| FreeBSD 11.2 | SKIPPED | PASS | SKIPPED |
+---------------------+----------------------+--------------------+----------------+
| Fedora 31 | SKIPPED | PASS | SKIPPED |
+---------------------+----------------------+--------------------+----------------+
| CentOS 8 | SKIPPED | PASS | SKIPPED |
+---------------------+----------------------+--------------------+----------------+
| Ubuntu 18.04 | SKIPPED | PASS | PASS |
+---------------------+----------------------+--------------------+----------------+
| openSUSE Leap 15 | SKIPPED | PASS | SKIPPED |
+---------------------+----------------------+--------------------+----------------+
| Arch Linux | SKIPPED | PASS | SKIPPED |
+---------------------+----------------------+--------------------+----------------+
| Ubuntu 18.04 ARM | SKIPPED | PASS | PASS |
+---------------------+----------------------+--------------------+----------------+
Windows Server 2019
Kernel: 10.0
Compiler: clang 9.0 and gcc 8.1.0 (MinGW)
FreeBSD 11.2
Kernel: 11.2
Compiler: gcc 8.3
Fedora 31
Kernel: 5.3.16
Compiler: gcc 9.2.1
CentOS 8
Kernel: 4.18.0.el8_0
Compiler: gcc 8.3.1
Ubuntu 18.04
Kernel: 4.15.0-generic
Compiler: gcc 7.5
openSUSE Leap 15
Kernel: 4.12.14
Compiler: gcc 7.4.1
Arch Linux
Kernel: latest
Compiler: gcc latest
Ubuntu 18.04 ARM
Kernel: 5.4.0-53-generic
Compiler: gcc 9.3
To view detailed results, visit:
https://lab.dpdk.org/results/dashboard/tarballs/13783/
UNH-IOL DPDK Community Lab
To manage your email subscriptions, visit:
https://lab.dpdk.org/results/dashboard/preferences/subscriptions/
^ permalink raw reply [flat|nested] 15+ messages in thread
* [dpdk-test-report] |SUCCESS| [GIT MASTER] 543f40f5952a869710e39ff51deccc96c5b88b3f
@ 2021-02-15 15:41 dpdklab
0 siblings, 0 replies; 15+ messages in thread
From: dpdklab @ 2021-02-15 15:41 UTC (permalink / raw)
To: Ajit Khaparde, Test Report; +Cc: dpdk-test-reports
[-- Attachment #1: Type: text/plain, Size: 1051 bytes --]
_Performance Testing PASS_
Branch: dpdk-next-net-mlx
543f40f5952a869710e39ff51deccc96c5b88b3f --> performance testing pass
Test environment and result as below:
Ubuntu 18.04
Kernel: 4.15.0-65-generic
Compiler: gcc gcc (Ubuntu 7.4.0-1ubuntu1~18.04.1) 7.4.0
NIC: Broadcom Inc. brcm_57414 25000 Mbps
Target: x86_64-native-linuxapp-gcc
Fail/Total: 0/2
Detail performance results:
+------------+---------+-------------------------------------+
| frame_size | txd/rxd | throughput difference from expected |
+============+=========+=====================================+
| 64 | 512 | 0.5246814434093531% |
+------------+---------+-------------------------------------+
| 64 | 2048 | 0.0% |
+------------+---------+-------------------------------------+
To view detailed results, visit:
https://lab.dpdk.org/results/dashboard/tarballs/13783/
UNH-IOL DPDK Community Lab
To manage your email subscriptions, visit:
https://lab.dpdk.org/results/dashboard/preferences/subscriptions/
^ permalink raw reply [flat|nested] 15+ messages in thread
* [dpdk-test-report] |SUCCESS| [GIT MASTER] 543f40f5952a869710e39ff51deccc96c5b88b3f
@ 2021-02-15 15:35 dpdklab
0 siblings, 0 replies; 15+ messages in thread
From: dpdklab @ 2021-02-15 15:35 UTC (permalink / raw)
To: Ajit Khaparde, Test Report; +Cc: dpdk-test-reports
[-- Attachment #1: Type: text/plain, Size: 579 bytes --]
_Functional Testing PASS_
Branch: dpdk-next-net-mlx
543f40f5952a869710e39ff51deccc96c5b88b3f --> functional testing pass
Test environment and result as below:
Ubuntu 18.04
Kernel: 4.15.0-65-generic
Compiler: gcc gcc (Ubuntu 7.4.0-1ubuntu1~18.04.1) 7.4.0
NIC: Broadcom Inc. brcm_57414 25000 Mbps
Target: x86_64-native-linuxapp-gcc
Fail/Total: 0/3
To view detailed results, visit:
https://lab.dpdk.org/results/dashboard/tarballs/13783/
UNH-IOL DPDK Community Lab
To manage your email subscriptions, visit:
https://lab.dpdk.org/results/dashboard/preferences/subscriptions/
^ permalink raw reply [flat|nested] 15+ messages in thread
* [dpdk-test-report] |SUCCESS| [GIT MASTER] 543f40f5952a869710e39ff51deccc96c5b88b3f
@ 2021-02-14 23:25 dpdklab
0 siblings, 0 replies; 15+ messages in thread
From: dpdklab @ 2021-02-14 23:25 UTC (permalink / raw)
To: Ali Alnubani, Test Report; +Cc: dpdk-test-reports
[-- Attachment #1: Type: text/plain, Size: 3737 bytes --]
_Performance Testing PASS_
Branch: dpdk
543f40f5952a869710e39ff51deccc96c5b88b3f --> performance testing pass
Test environment and result as below:
Ubuntu 18.04
Kernel: 4.15.0-generic
Compiler: gcc 7.4
NIC: Mellanox ConnectX-4 Lx 40000 Mbps
Target: x86_64-native-linuxapp-gcc
Fail/Total: 0/6
Detail performance results:
+------------+---------+-------------------------------------+
| frame_size | txd/rxd | throughput difference from expected |
+============+=========+=====================================+
| 64 | 256 | 0.4362951979012168% |
+------------+---------+-------------------------------------+
| 128 | 256 | -1.268571428571436% |
+------------+---------+-------------------------------------+
| 256 | 256 | -0.14603336862472766% |
+------------+---------+-------------------------------------+
| 512 | 256 | -0.18067807418430476% |
+------------+---------+-------------------------------------+
| 1024 | 256 | -0.1876759461995507% |
+------------+---------+-------------------------------------+
| 1518 | 256 | 0.061566877020170045% |
+------------+---------+-------------------------------------+
Ubuntu 18.04
Kernel: 4.15.0-generic
Compiler: gcc 7.4
NIC: Mellanox ConnectX-5 100000 Mbps
Target: x86_64-native-linuxapp-gcc
Fail/Total: 0/6
Detail performance results:
+------------+---------+-------------------------------------+
| frame_size | txd/rxd | throughput difference from expected |
+============+=========+=====================================+
| 64 | 256 | -0.3585213417095998% |
+------------+---------+-------------------------------------+
| 128 | 256 | -0.38738954786105784% |
+------------+---------+-------------------------------------+
| 256 | 256 | 0.5610660254483613% |
+------------+---------+-------------------------------------+
| 512 | 256 | -1.0943792680791455% |
+------------+---------+-------------------------------------+
| 1024 | 256 | -0.8651704642795879% |
+------------+---------+-------------------------------------+
| 1518 | 256 | 0.011752262310488256% |
+------------+---------+-------------------------------------+
Ubuntu 18.04
Kernel: 4.15.0-generic
Compiler: gcc 7.4
NIC: Mellanox ConnectX-4 Lx 25000 Mbps
Target: x86_64-native-linuxapp-gcc
Fail/Total: 0/6
Detail performance results:
+------------+---------+-------------------------------------+
| frame_size | txd/rxd | throughput difference from expected |
+============+=========+=====================================+
| 64 | 256 | 0.7474182689564685% |
+------------+---------+-------------------------------------+
| 128 | 256 | 0.08652015919710031% |
+------------+---------+-------------------------------------+
| 256 | 256 | 0.06966907190844937% |
+------------+---------+-------------------------------------+
| 512 | 256 | -0.025777625021482328% |
+------------+---------+-------------------------------------+
| 1024 | 256 | -0.18363939899833256% |
+------------+---------+-------------------------------------+
| 1518 | 256 | 0.0740557886941524% |
+------------+---------+-------------------------------------+
To view detailed results, visit:
https://lab.dpdk.org/results/dashboard/tarballs/13780/
UNH-IOL DPDK Community Lab
To manage your email subscriptions, visit:
https://lab.dpdk.org/results/dashboard/preferences/subscriptions/
^ permalink raw reply [flat|nested] 15+ messages in thread
* [dpdk-test-report] |SUCCESS| [GIT MASTER] 543f40f5952a869710e39ff51deccc96c5b88b3f
@ 2021-02-14 23:17 dpdklab
0 siblings, 0 replies; 15+ messages in thread
From: dpdklab @ 2021-02-14 23:17 UTC (permalink / raw)
To: Test Report; +Cc: dpdk-test-reports
[-- Attachment #1: Type: text/plain, Size: 2424 bytes --]
_Testing PASS_
Branch: dpdk
543f40f5952a869710e39ff51deccc96c5b88b3f --> testing pass
Test environment and result as below:
+---------------------+----------------------+--------------------+----------------+
| Environment | dpdk_mingw64_compile | dpdk_meson_compile | dpdk_unit_test |
+=====================+======================+====================+================+
| Windows Server 2019 | PASS | PASS | SKIPPED |
+---------------------+----------------------+--------------------+----------------+
| FreeBSD 11.2 | SKIPPED | PASS | SKIPPED |
+---------------------+----------------------+--------------------+----------------+
| Fedora 31 | SKIPPED | PASS | SKIPPED |
+---------------------+----------------------+--------------------+----------------+
| Ubuntu 18.04 | SKIPPED | PASS | PASS |
+---------------------+----------------------+--------------------+----------------+
| CentOS 8 | SKIPPED | PASS | SKIPPED |
+---------------------+----------------------+--------------------+----------------+
| openSUSE Leap 15 | SKIPPED | PASS | SKIPPED |
+---------------------+----------------------+--------------------+----------------+
| Arch Linux | SKIPPED | PASS | SKIPPED |
+---------------------+----------------------+--------------------+----------------+
| Ubuntu 18.04 ARM | SKIPPED | PASS | PASS |
+---------------------+----------------------+--------------------+----------------+
Windows Server 2019
Kernel: 10.0
Compiler: clang 9.0 and gcc 8.1.0 (MinGW)
FreeBSD 11.2
Kernel: 11.2
Compiler: gcc 8.3
Fedora 31
Kernel: 5.3.16
Compiler: gcc 9.2.1
Ubuntu 18.04
Kernel: 4.15.0-generic
Compiler: gcc 7.5
CentOS 8
Kernel: 4.18.0.el8_0
Compiler: gcc 8.3.1
openSUSE Leap 15
Kernel: 4.12.14
Compiler: gcc 7.4.1
Arch Linux
Kernel: latest
Compiler: gcc latest
Ubuntu 18.04 ARM
Kernel: 5.4.0-53-generic
Compiler: gcc 9.3
To view detailed results, visit:
https://lab.dpdk.org/results/dashboard/tarballs/13780/
UNH-IOL DPDK Community Lab
To manage your email subscriptions, visit:
https://lab.dpdk.org/results/dashboard/preferences/subscriptions/
^ permalink raw reply [flat|nested] 15+ messages in thread
* [dpdk-test-report] |SUCCESS| [GIT MASTER] 543f40f5952a869710e39ff51deccc96c5b88b3f
@ 2021-02-14 23:15 dpdklab
0 siblings, 0 replies; 15+ messages in thread
From: dpdklab @ 2021-02-14 23:15 UTC (permalink / raw)
To: Test Report; +Cc: dpdk-test-reports
[-- Attachment #1: Type: text/plain, Size: 1690 bytes --]
_Performance Testing PASS_
Branch: dpdk
543f40f5952a869710e39ff51deccc96c5b88b3f --> performance testing pass
Test environment and result as below:
Ubuntu 18.04
Kernel: 4.15.0-generic
Compiler: gcc 7.4
NIC: Intel Corporation Ethernet Converged Network Adapter 82599ES 10000 Mbps
Target: x86_64-native-linuxapp-gcc
Fail/Total: 0/2
Detail performance results:
+------------+---------+-------------------------------------+
| frame_size | txd/rxd | throughput difference from expected |
+============+=========+=====================================+
| 64 | 512 | 2.896811016488486% |
+------------+---------+-------------------------------------+
| 64 | 2048 | 1.7035824068488137% |
+------------+---------+-------------------------------------+
Ubuntu 18.04
Kernel: 4.15.0-generic
Compiler: gcc 7.4
NIC: Intel Corporation Ethernet Converged Network Adapter XL710-QDA2 40000 Mbps
Target: x86_64-native-linuxapp-gcc
Fail/Total: 0/2
Detail performance results:
+------------+---------+-------------------------------------+
| frame_size | txd/rxd | throughput difference from expected |
+============+=========+=====================================+
| 64 | 512 | 5.643985540532445% |
+------------+---------+-------------------------------------+
| 64 | 2048 | 4.2950140922355375% |
+------------+---------+-------------------------------------+
To view detailed results, visit:
https://lab.dpdk.org/results/dashboard/tarballs/13780/
UNH-IOL DPDK Community Lab
To manage your email subscriptions, visit:
https://lab.dpdk.org/results/dashboard/preferences/subscriptions/
^ permalink raw reply [flat|nested] 15+ messages in thread
* [dpdk-test-report] |SUCCESS| [GIT MASTER] 543f40f5952a869710e39ff51deccc96c5b88b3f
@ 2021-02-14 23:03 dpdklab
0 siblings, 0 replies; 15+ messages in thread
From: dpdklab @ 2021-02-14 23:03 UTC (permalink / raw)
To: Ajit Khaparde, Test Report; +Cc: dpdk-test-reports
[-- Attachment #1: Type: text/plain, Size: 566 bytes --]
_Functional Testing PASS_
Branch: dpdk
543f40f5952a869710e39ff51deccc96c5b88b3f --> functional testing pass
Test environment and result as below:
Ubuntu 18.04
Kernel: 4.15.0-65-generic
Compiler: gcc gcc (Ubuntu 7.4.0-1ubuntu1~18.04.1) 7.4.0
NIC: Broadcom Inc. brcm_57414 25000 Mbps
Target: x86_64-native-linuxapp-gcc
Fail/Total: 0/3
To view detailed results, visit:
https://lab.dpdk.org/results/dashboard/tarballs/13780/
UNH-IOL DPDK Community Lab
To manage your email subscriptions, visit:
https://lab.dpdk.org/results/dashboard/preferences/subscriptions/
^ permalink raw reply [flat|nested] 15+ messages in thread
* [dpdk-test-report] |SUCCESS| [GIT MASTER] 543f40f5952a869710e39ff51deccc96c5b88b3f
@ 2021-02-14 22:54 dpdklab
0 siblings, 0 replies; 15+ messages in thread
From: dpdklab @ 2021-02-14 22:54 UTC (permalink / raw)
To: Ajit Khaparde, Test Report; +Cc: dpdk-test-reports
[-- Attachment #1: Type: text/plain, Size: 1038 bytes --]
_Performance Testing PASS_
Branch: dpdk
543f40f5952a869710e39ff51deccc96c5b88b3f --> performance testing pass
Test environment and result as below:
Ubuntu 18.04
Kernel: 4.15.0-65-generic
Compiler: gcc gcc (Ubuntu 7.4.0-1ubuntu1~18.04.1) 7.4.0
NIC: Broadcom Inc. brcm_57414 25000 Mbps
Target: x86_64-native-linuxapp-gcc
Fail/Total: 0/2
Detail performance results:
+------------+---------+-------------------------------------+
| frame_size | txd/rxd | throughput difference from expected |
+============+=========+=====================================+
| 64 | 512 | -0.46893317702226056% |
+------------+---------+-------------------------------------+
| 64 | 2048 | -0.2603889892656129% |
+------------+---------+-------------------------------------+
To view detailed results, visit:
https://lab.dpdk.org/results/dashboard/tarballs/13780/
UNH-IOL DPDK Community Lab
To manage your email subscriptions, visit:
https://lab.dpdk.org/results/dashboard/preferences/subscriptions/
^ permalink raw reply [flat|nested] 15+ messages in thread
end of thread, other threads:[~2021-02-15 19:53 UTC | newest]
Thread overview: 15+ messages (download: mbox.gz / follow: Atom feed)
-- links below jump to the message on this page --
2021-02-15 15:59 [dpdk-test-report] |SUCCESS| [GIT MASTER] 543f40f5952a869710e39ff51deccc96c5b88b3f dpdklab
-- strict thread matches above, loose matches on Subject: below --
2021-02-15 19:53 dpdklab
2021-02-15 19:53 dpdklab
2021-02-15 19:42 dpdklab
2021-02-15 19:33 dpdklab
2021-02-15 19:26 dpdklab
2021-02-15 15:50 dpdklab
2021-02-15 15:49 dpdklab
2021-02-15 15:41 dpdklab
2021-02-15 15:35 dpdklab
2021-02-14 23:25 dpdklab
2021-02-14 23:17 dpdklab
2021-02-14 23:15 dpdklab
2021-02-14 23:03 dpdklab
2021-02-14 22:54 dpdklab
This is a public inbox, see mirroring instructions
for how to clone and mirror all data and code used for this inbox;
as well as URLs for NNTP newsgroup(s).