* [dpdk-test-report] |SUCCESS| pw90009-90016 [PATCH] [8/8] net/ice/base: add RSS support for PPPoL2TPv2oUDP
@ 2021-03-30 2:32 dpdklab
0 siblings, 0 replies; 3+ messages in thread
From: dpdklab @ 2021-03-30 2:32 UTC (permalink / raw)
To: Ali Alnubani, Test Report; +Cc: dpdk-test-reports
[-- Attachment #1: Type: text/plain, Size: 3962 bytes --]
Test-Label: iol-mellanox-Performance
Test-Status: SUCCESS
http://dpdk.org/patch/90016
_Performance Testing PASS_
Submitter: Qi Zhang <qi.z.zhang@intel.com>
Date: Monday, March 29 2021 14:14:11
DPDK git baseline: Repo:dpdk
Branch: master
CommitID:6545d6c52bbc28402b7bde5ee64744a99a3caf3e
90009-90016 --> performance testing pass
Test environment and result as below:
Ubuntu 18.04
Kernel: 4.15.0-generic
Compiler: gcc 7.4
NIC: Mellanox ConnectX-5 100000 Mbps
Target: x86_64-native-linuxapp-gcc
Fail/Total: 0/6
Detail performance results:
+------------+---------+-------------------------------------+
| frame_size | txd/rxd | throughput difference from expected |
+============+=========+=====================================+
| 64 | 256 | 0.61571% |
+------------+---------+-------------------------------------+
| 128 | 256 | 0.02773% |
+------------+---------+-------------------------------------+
| 256 | 256 | 0.00499% |
+------------+---------+-------------------------------------+
| 512 | 256 | 0.18148% |
+------------+---------+-------------------------------------+
| 1024 | 256 | 2.0676% |
+------------+---------+-------------------------------------+
| 1518 | 256 | 0.29478% |
+------------+---------+-------------------------------------+
Ubuntu 18.04
Kernel: 4.15.0-generic
Compiler: gcc 7.4
NIC: Mellanox ConnectX-4 Lx 40000 Mbps
Target: x86_64-native-linuxapp-gcc
Fail/Total: 0/6
Detail performance results:
+------------+---------+-------------------------------------+
| frame_size | txd/rxd | throughput difference from expected |
+============+=========+=====================================+
| 64 | 256 | -0.52918% |
+------------+---------+-------------------------------------+
| 128 | 256 | 0.57133% |
+------------+---------+-------------------------------------+
| 256 | 256 | -0.2116% |
+------------+---------+-------------------------------------+
| 512 | 256 | 0.21869% |
+------------+---------+-------------------------------------+
| 1024 | 256 | -0.0314% |
+------------+---------+-------------------------------------+
| 1518 | 256 | -0.16918% |
+------------+---------+-------------------------------------+
Ubuntu 18.04
Kernel: 4.15.0-generic
Compiler: gcc 7.4
NIC: Mellanox ConnectX-4 Lx 25000 Mbps
Target: x86_64-native-linuxapp-gcc
Fail/Total: 0/6
Detail performance results:
+------------+---------+-------------------------------------+
| frame_size | txd/rxd | throughput difference from expected |
+============+=========+=====================================+
| 64 | 256 | -0.03428% |
+------------+---------+-------------------------------------+
| 128 | 256 | 0.27016% |
+------------+---------+-------------------------------------+
| 256 | 256 | -0.93254% |
+------------+---------+-------------------------------------+
| 512 | 256 | 0.36076% |
+------------+---------+-------------------------------------+
| 1024 | 256 | 0.03347% |
+------------+---------+-------------------------------------+
| 1518 | 256 | 0.1233% |
+------------+---------+-------------------------------------+
To view detailed results, visit:
https://lab.dpdk.org/results/dashboard/patchsets/16175/
UNH-IOL DPDK Community Lab
To manage your email subscriptions, visit:
https://lab.dpdk.org/results/dashboard/preferences/subscriptions/
^ permalink raw reply [flat|nested] 3+ messages in thread
* [dpdk-test-report] |SUCCESS| pw90009-90016 [PATCH] [8/8] net/ice/base: add RSS support for PPPoL2TPv2oUDP
@ 2021-03-30 10:43 dpdklab
0 siblings, 0 replies; 3+ messages in thread
From: dpdklab @ 2021-03-30 10:43 UTC (permalink / raw)
To: Test Report; +Cc: dpdk-test-reports
[-- Attachment #1: Type: text/plain, Size: 3979 bytes --]
Test-Label: iol-testing
Test-Status: SUCCESS
http://dpdk.org/patch/90016
_Testing PASS_
Submitter: Zhang, Qi Z <qi.z.zhang@intel.com>
Date: Monday, March 29 2021 14:14:11
DPDK git baseline: Repo:dpdk
Branch: master
CommitID:6545d6c52bbc28402b7bde5ee64744a99a3caf3e
90009-90016 --> testing pass
Test environment and result as below:
+---------------------+----------------------+--------------------+----------------+-------------------+
| Environment | dpdk_mingw64_compile | dpdk_meson_compile | dpdk_unit_test | dpdk_compile_spdk |
+=====================+======================+====================+================+===================+
| Windows Server 2019 | PASS | PASS | SKIPPED | SKIPPED |
+---------------------+----------------------+--------------------+----------------+-------------------+
| CentOS Stream 8 | SKIPPED | PASS | SKIPPED | SKIPPED |
+---------------------+----------------------+--------------------+----------------+-------------------+
| Fedora 32 | SKIPPED | PASS | SKIPPED | SKIPPED |
+---------------------+----------------------+--------------------+----------------+-------------------+
| Ubuntu 20.04 | SKIPPED | PASS | SKIPPED | SKIPPED |
+---------------------+----------------------+--------------------+----------------+-------------------+
| RHEL 7 | SKIPPED | PASS | SKIPPED | SKIPPED |
+---------------------+----------------------+--------------------+----------------+-------------------+
| RHEL8 | SKIPPED | PASS | SKIPPED | SKIPPED |
+---------------------+----------------------+--------------------+----------------+-------------------+
| FreeBSD 11.2 | SKIPPED | PASS | SKIPPED | SKIPPED |
+---------------------+----------------------+--------------------+----------------+-------------------+
| openSUSE Leap 15 | SKIPPED | PASS | SKIPPED | SKIPPED |
+---------------------+----------------------+--------------------+----------------+-------------------+
| Ubuntu 18.04 ARM | SKIPPED | PASS | PASS | SKIPPED |
+---------------------+----------------------+--------------------+----------------+-------------------+
| Fedora 31 | SKIPPED | PASS | SKIPPED | PASS |
+---------------------+----------------------+--------------------+----------------+-------------------+
| Ubuntu 18.04 | SKIPPED | PASS | PASS | PASS |
+---------------------+----------------------+--------------------+----------------+-------------------+
Windows Server 2019
Kernel: 10.0
Compiler: clang 9.0 and gcc 8.1.0 (MinGW)
CentOS Stream 8
Kernel: 4.18.0-240.10.1.el8_3.x86_64
Compiler: gcc 8.4.1 20200928
Fedora 32
Kernel: 4.18.0-240.10.1.el8_3.x86_64
Compiler: gcc 10.2.1
Ubuntu 20.04
Kernel: 4.18.0-240.10.1.el8_3.x86_64
Compiler: gcc 9.3.0-17ubuntu1~20.04
RHEL 7
Kernel: 4.18.0-240.10.1.el8_3.x86_64
Compiler: gcc 4.8.5 20150623 (Red Hat 4.8.5-44)
RHEL8
Kernel: 4.18.0-240.10.1.el8_3.x86_64
Compiler: gcc 8.3.1 20191121 (Red Hat 8.3.1-5)
FreeBSD 11.2
Kernel: 11.2
Compiler: gcc 8.3
openSUSE Leap 15
Kernel: 4.12.14
Compiler: gcc 7.4.1
Ubuntu 18.04 ARM
Kernel: 5.4.0-53-generic
Compiler: gcc 9.3
Fedora 31
Kernel: 5.3.16
Compiler: gcc 9.2.1
Ubuntu 18.04
Kernel: 4.15.0-generic
Compiler: gcc 7.5
To view detailed results, visit:
https://lab.dpdk.org/results/dashboard/patchsets/16175/
UNH-IOL DPDK Community Lab
To manage your email subscriptions, visit:
https://lab.dpdk.org/results/dashboard/preferences/subscriptions/
^ permalink raw reply [flat|nested] 3+ messages in thread
* [dpdk-test-report] |SUCCESS| pw90009-90016 [PATCH] [8/8] net/ice/base: add RSS support for PPPoL2TPv2oUDP
@ 2021-03-30 2:13 dpdklab
0 siblings, 0 replies; 3+ messages in thread
From: dpdklab @ 2021-03-30 2:13 UTC (permalink / raw)
To: Test Report; +Cc: dpdk-test-reports
[-- Attachment #1: Type: text/plain, Size: 1912 bytes --]
Test-Label: iol-intel-Performance
Test-Status: SUCCESS
http://dpdk.org/patch/90016
_Performance Testing PASS_
Submitter: Qi Zhang <qi.z.zhang@intel.com>
Date: Monday, March 29 2021 14:14:11
DPDK git baseline: Repo:dpdk
Branch: master
CommitID:6545d6c52bbc28402b7bde5ee64744a99a3caf3e
90009-90016 --> performance testing pass
Test environment and result as below:
Ubuntu 18.04
Kernel: 4.15.0-generic
Compiler: gcc 7.4
NIC: Intel Corporation Ethernet Converged Network Adapter 82599ES 10000 Mbps
Target: x86_64-native-linuxapp-gcc
Fail/Total: 0/2
Detail performance results:
+------------+---------+-------------------------------------+
| frame_size | txd/rxd | throughput difference from expected |
+============+=========+=====================================+
| 64 | 512 | 3.05082% |
+------------+---------+-------------------------------------+
| 64 | 2048 | 2.2408% |
+------------+---------+-------------------------------------+
Ubuntu 18.04
Kernel: 4.15.0-generic
Compiler: gcc 7.4
NIC: Intel Corporation Ethernet Converged Network Adapter XL710-QDA2 40000 Mbps
Target: x86_64-native-linuxapp-gcc
Fail/Total: 0/2
Detail performance results:
+------------+---------+-------------------------------------+
| frame_size | txd/rxd | throughput difference from expected |
+============+=========+=====================================+
| 64 | 512 | 5.50019% |
+------------+---------+-------------------------------------+
| 64 | 2048 | 4.71903% |
+------------+---------+-------------------------------------+
To view detailed results, visit:
https://lab.dpdk.org/results/dashboard/patchsets/16175/
UNH-IOL DPDK Community Lab
To manage your email subscriptions, visit:
https://lab.dpdk.org/results/dashboard/preferences/subscriptions/
^ permalink raw reply [flat|nested] 3+ messages in thread
end of thread, other threads:[~2021-03-30 10:43 UTC | newest]
Thread overview: 3+ messages (download: mbox.gz / follow: Atom feed)
-- links below jump to the message on this page --
2021-03-30 2:32 [dpdk-test-report] |SUCCESS| pw90009-90016 [PATCH] [8/8] net/ice/base: add RSS support for PPPoL2TPv2oUDP dpdklab
-- strict thread matches above, loose matches on Subject: below --
2021-03-30 10:43 dpdklab
2021-03-30 2:13 dpdklab
This is a public inbox, see mirroring instructions
for how to clone and mirror all data and code used for this inbox;
as well as URLs for NNTP newsgroup(s).